BEGIN:VCALENDAR
VERSION:2.0
PRODID:-//Pohjois-Pohjanmaan lintutieteellinen yhdistys ry - PPLY - ECPv6.15.20//NONSGML v1.0//EN
CALSCALE:GREGORIAN
METHOD:PUBLISH
X-ORIGINAL-URL:https://www.pply.fi
X-WR-CALDESC:Tapahtumat Pohjois-Pohjanmaan lintutieteellinen yhdistys ry - PPLY
REFRESH-INTERVAL;VALUE=DURATION:PT1H
X-Robots-Tag:noindex
X-PUBLISHED-TTL:PT1H
BEGIN:VTIMEZONE
TZID:Europe/Helsinki
BEGIN:DAYLIGHT
TZOFFSETFROM:+0200
TZOFFSETTO:+0300
TZNAME:EEST
DTSTART:20160327T010000
END:DAYLIGHT
BEGIN:STANDARD
TZOFFSETFROM:+0300
TZOFFSETTO:+0200
TZNAME:EET
DTSTART:20161030T010000
END:STANDARD
BEGIN:DAYLIGHT
TZOFFSETFROM:+0200
TZOFFSETTO:+0300
TZNAME:EEST
DTSTART:20170326T010000
END:DAYLIGHT
BEGIN:STANDARD
TZOFFSETFROM:+0300
TZOFFSETTO:+0200
TZNAME:EET
DTSTART:20171029T010000
END:STANDARD
BEGIN:DAYLIGHT
TZOFFSETFROM:+0200
TZOFFSETTO:+0300
TZNAME:EEST
DTSTART:20180325T010000
END:DAYLIGHT
BEGIN:STANDARD
TZOFFSETFROM:+0300
TZOFFSETTO:+0200
TZNAME:EET
DTSTART:20181028T010000
END:STANDARD
END:VTIMEZONE
BEGIN:VEVENT
DTSTART;VALUE=DATE:20170519
DTEND;VALUE=DATE:20170522
DTSTAMP:20260424T070444
CREATED:20170122T180101Z
LAST-MODIFIED:20170411T171509Z
UID:941-1495152000-1495411199@www.pply.fi
SUMMARY:Lasten lintuleiri
DESCRIPTION:Siikajoen Tauvon lintuasemalla jäjestetään perinteinen lasten lintuleiri 19-21.5.2017. Leiri on tarkoitettu noin 8-13 vuotiaille. Ohjelmassa on mm. lintujen rengastusta\, muuton seurantaa\, levähtävien lintujen havainnointia ja lintujen pesimäpuuhien seuraamista asiantuntevien ja aikaisempaa lastenleirikokemusta omaavien ohjaajien opastuksella. \nLeirin hinta on 35 € per henkilö. Maksu sisältää majoituksen Tauvon lintuasemalla (oma makuupussi)\, huolenpidon ja ruokailut. \nLintuasemalle sisä(parakki)majoitukseen mahtuu noin kymmenen ihmistä.Telttailijoita voidaan ottaa mukaan harkinnan mukaan. Erityisruokavaliot huomioidaan ilmoitusten mukaan. Leiriläisten kannattaa ottaa mukaan polkupyörät\, jotta pääsemme liikkumaan helpommin myös hieman kauempana (muutaman kilometrin päässä) oleville lintupaikoille. Ilman polkupyörääkin pärjää\, mutta silloin voi joutua tyytymään aseman lähiympäristön lintujen havainnointiin. Osalle leiriläisistä voidaan järjestää kuljetus Tauvoon. \nIlmottaudu mukaan lastenleirille\nIlmoittautumiset yhdistyksen retkivastaavalle sähköpostitse. Ilmoita samalla myös myös vanhempien yhteystiedot ja lapsen ikä. \nTiina Sihto\nLintukerhon ja retkitoiminnan vastaava\nreatiinas(at)gmail.com\n045 2774546
URL:https://www.pply.fi/tapahtumakalenteri/lasten-lintuleiri/
LOCATION:Tauvon lintuasema
CATEGORIES:Lasten lintukerho,PPLY,Retki/opastus,Tapahtumakalenteri
END:VEVENT
END:VCALENDAR